BEGIN:VCALENDAR
VERSION:2.0
PRODID:SchoolNow
CALSCALE:GREGORIAN
BEGIN:VEVENT
UID:0c88527e-73b7-11f0-bf72-02ee2af05cff
DTSTAMP:20260419T133009Z
SUMMARY:NYSSMA
URL;VALUE=URI:https://www.canastotacsd.org/calendar/8480043/nyssma
DTSTART;VALUE=DATE:20260515
DTEND;VALUE=DATE:20260516
END:VEVENT
END:VCALENDAR
