BEGIN:VCALENDAR
VERSION:2.0
PRODID:SchoolNow
CALSCALE:GREGORIAN
BEGIN:VEVENT
UID:0c88536e-73b7-11f0-9fad-02ee2af05cff
DTSTAMP:20260419T133009Z
SUMMARY:NYSSMA
URL;VALUE=URI:https://www.canastotacsd.org/calendar/8480044/nyssma
DTSTART;VALUE=DATE:20260516
DTEND;VALUE=DATE:20260517
END:VEVENT
END:VCALENDAR
