BEGIN:VCALENDAR
VERSION:2.0
PRODID:SchoolNow
CALSCALE:GREGORIAN
BEGIN:VEVENT
UID:0c885454-73b7-11f0-945f-02ee2af05cff
DTSTAMP:20260419T133009Z
SUMMARY:Budget Vote
URL;VALUE=URI:https://www.canastotacsd.org/calendar/8480045/budget-vote
DTSTART:20260519T170000Z
DTEND:20260520T000000Z
END:VEVENT
END:VCALENDAR
