BEGIN:VCALENDAR
VERSION:2.0
PRODID:SchoolNow
CALSCALE:GREGORIAN
BEGIN:VEVENT
UID:0c885544-73b7-11f0-b5d9-02ee2af05cff
DTSTAMP:20260419T133009Z
SUMMARY:Early Dismissal For Students
URL;VALUE=URI:https://www.canastotacsd.org/calendar/8480046/early-dismissal
 -for-students
DTSTART;VALUE=DATE:20260519
DTEND;VALUE=DATE:20260520
END:VEVENT
END:VCALENDAR
