BEGIN:VCALENDAR
VERSION:2.0
PRODID:SchoolNow
CALSCALE:GREGORIAN
BEGIN:VEVENT
UID:0c88562a-73b7-11f0-9d10-02ee2af05cff
DTSTAMP:20260419T133009Z
SUMMARY:SSES Band/Chorus Concert
URL;VALUE=URI:https://www.canastotacsd.org/calendar/8480047/sses-band-choru
 s-concert
DTSTART:20260521T220000Z
DTEND:20260521T230000Z
END:VEVENT
END:VCALENDAR
