BEGIN:VCALENDAR
VERSION:2.0
PRODID:SchoolNow
CALSCALE:GREGORIAN
BEGIN:VEVENT
UID:0c88571a-73b7-11f0-aa2f-02ee2af05cff
DTSTAMP:20260419T133009Z
SUMMARY:Memorial Day - NO SCHOOL
URL;VALUE=URI:https://www.canastotacsd.org/calendar/8480048/memorial-day-no
 -school
DTSTART;VALUE=DATE:20260525
DTEND;VALUE=DATE:20260526
END:VEVENT
END:VCALENDAR
