BEGIN:VCALENDAR
VERSION:2.0
PRODID:SchoolNow
CALSCALE:GREGORIAN
BEGIN:VEVENT
UID:0c885800-73b7-11f0-bb55-02ee2af05cff
DTSTAMP:20260419T133009Z
SUMMARY:Yearbook Dedication Ceremony
URL;VALUE=URI:https://www.canastotacsd.org/calendar/8480049/yearbook-dedica
 tion-ceremony
DTSTART;VALUE=DATE:20260526
DTEND;VALUE=DATE:20260527
END:VEVENT
END:VCALENDAR
