BEGIN:VCALENDAR
VERSION:2.0
PRODID:SchoolNow
CALSCALE:GREGORIAN
BEGIN:VEVENT
UID:0c8858e6-73b7-11f0-bff5-02ee2af05cff
DTSTAMP:20260419T133009Z
SUMMARY:High School Final Chorus Concert
URL;VALUE=URI:https://www.canastotacsd.org/calendar/8480050/high-school-fin
 al-chorus-concert
DTSTART:20260603T230000Z
DTEND:20260604T000000Z
END:VEVENT
END:VCALENDAR
