BEGIN:VCALENDAR
VERSION:2.0
PRODID:SchoolNow
CALSCALE:GREGORIAN
BEGIN:VEVENT
UID:0c8859cc-73b7-11f0-9470-02ee2af05cff
DTSTAMP:20260419T133009Z
SUMMARY:Regular Board Meeting
URL;VALUE=URI:https://www.canastotacsd.org/calendar/8480051/regular-board-m
 eeting
DTSTART:20260609T223000Z
DTEND:20260609T233000Z
END:VEVENT
END:VCALENDAR
