BEGIN:VCALENDAR
VERSION:2.0
PRODID:SchoolNow
CALSCALE:GREGORIAN
BEGIN:VEVENT
UID:0c885ab2-73b7-11f0-a319-02ee2af05cff
DTSTAMP:20260419T133009Z
SUMMARY:Regents Exams
URL;VALUE=URI:https://www.canastotacsd.org/calendar/8480052/regents-exams
DTSTART;VALUE=DATE:20260609
DTEND;VALUE=DATE:20260610
END:VEVENT
END:VCALENDAR
