BEGIN:VCALENDAR
VERSION:2.0
PRODID:SchoolNow
CALSCALE:GREGORIAN
BEGIN:VEVENT
UID:0c885c7e-73b7-11f0-928c-02ee2af05cff
DTSTAMP:20260419T133009Z
SUMMARY:NO SCHOOL Grades 9-12
URL;VALUE=URI:https://www.canastotacsd.org/calendar/8480054/no-school-grade
 s-9-12
DTSTART;VALUE=DATE:20260610
DTEND;VALUE=DATE:20260611
END:VEVENT
END:VCALENDAR
