BEGIN:VCALENDAR
VERSION:2.0
PRODID:SchoolNow
CALSCALE:GREGORIAN
BEGIN:VEVENT
UID:0c885d64-73b7-11f0-ab62-02ee2af05cff
DTSTAMP:20260419T133009Z
SUMMARY:Regents Exams
URL;VALUE=URI:https://www.canastotacsd.org/calendar/8480055/regents-exams
DTSTART;VALUE=DATE:20260610
DTEND;VALUE=DATE:20260611
END:VEVENT
END:VCALENDAR
