BEGIN:VCALENDAR
VERSION:2.0
PRODID:SchoolNow
CALSCALE:GREGORIAN
BEGIN:VEVENT
UID:0c885e40-73b7-11f0-96c5-02ee2af05cff
DTSTAMP:20260419T133009Z
SUMMARY:CCS Pantry Restock
URL;VALUE=URI:https://www.canastotacsd.org/calendar/8480056/ccs-pantry-rest
 ock
DTSTART;VALUE=DATE:20260610
DTEND;VALUE=DATE:20260611
END:VEVENT
END:VCALENDAR
