BEGIN:VCALENDAR
VERSION:2.0
PRODID:SchoolNow
CALSCALE:GREGORIAN
BEGIN:VEVENT
UID:0c885f26-73b7-11f0-bc9d-02ee2af05cff
DTSTAMP:20260419T133009Z
SUMMARY:Senior Breakfast
URL;VALUE=URI:https://www.canastotacsd.org/calendar/8480057/senior-breakfas
 t
DTSTART;VALUE=DATE:20260611
DTEND;VALUE=DATE:20260612
END:VEVENT
END:VCALENDAR
