BEGIN:VCALENDAR
VERSION:2.0
PRODID:SchoolNow
CALSCALE:GREGORIAN
BEGIN:VEVENT
UID:0c88600c-73b7-11f0-bc3b-02ee2af05cff
DTSTAMP:20260419T133009Z
SUMMARY:Senior Farewell Senior Walk
URL;VALUE=URI:https://www.canastotacsd.org/calendar/8480058/senior-farewell
 -senior-walk
DTSTART;VALUE=DATE:20260611
DTEND;VALUE=DATE:20260612
END:VEVENT
END:VCALENDAR
