BEGIN:VCALENDAR
VERSION:2.0
PRODID:SchoolNow
CALSCALE:GREGORIAN
BEGIN:VEVENT
UID:0c8860f2-73b7-11f0-98a4-02ee2af05cff
DTSTAMP:20260419T133009Z
SUMMARY:Senior Picnic
URL;VALUE=URI:https://www.canastotacsd.org/calendar/8480059/senior-picnic
DTSTART;VALUE=DATE:20260615
DTEND;VALUE=DATE:20260616
END:VEVENT
END:VCALENDAR
