BEGIN:VCALENDAR
VERSION:2.0
PRODID:SchoolNow
CALSCALE:GREGORIAN
BEGIN:VEVENT
UID:0c8861ce-73b7-11f0-b74d-02ee2af05cff
DTSTAMP:20260419T133009Z
SUMMARY:Grades Last Day of School
URL;VALUE=URI:https://www.canastotacsd.org/calendar/8480060/grades-last-day
 -of-school
DTSTART;VALUE=DATE:20260616
DTEND;VALUE=DATE:20260617
END:VEVENT
END:VCALENDAR
