BEGIN:VCALENDAR
VERSION:2.0
PRODID:SchoolNow
CALSCALE:GREGORIAN
BEGIN:VEVENT
UID:0c8862b4-73b7-11f0-801e-02ee2af05cff
DTSTAMP:20260419T133009Z
SUMMARY:Regents Exams
URL;VALUE=URI:https://www.canastotacsd.org/calendar/8480061/regents-exams
DTSTART;VALUE=DATE:20260617
DTEND;VALUE=DATE:20260618
END:VEVENT
END:VCALENDAR
