BEGIN:VCALENDAR
VERSION:2.0
PRODID:SchoolNow
CALSCALE:GREGORIAN
BEGIN:VEVENT
UID:0c886480-73b7-11f0-a4ad-02ee2af05cff
DTSTAMP:20260419T133009Z
SUMMARY:Juneteenth - NO SCHOOL
URL;VALUE=URI:https://www.canastotacsd.org/calendar/8480063/juneteenth-no-s
 chool
DTSTART;VALUE=DATE:20260619
DTEND;VALUE=DATE:20260620
END:VEVENT
END:VCALENDAR
