BEGIN:VCALENDAR
VERSION:2.0
PRODID:SchoolNow
CALSCALE:GREGORIAN
BEGIN:VEVENT
UID:0c88655c-73b7-11f0-9c30-02ee2af05cff
DTSTAMP:20260419T133009Z
SUMMARY:Father's Day
URL;VALUE=URI:https://www.canastotacsd.org/calendar/8480064/fathers-day
DTSTART;VALUE=DATE:20260621
DTEND;VALUE=DATE:20260622
END:VEVENT
END:VCALENDAR
