BEGIN:VCALENDAR
VERSION:2.0
PRODID:SchoolNow
CALSCALE:GREGORIAN
BEGIN:VEVENT
UID:0c886642-73b7-11f0-81f6-02ee2af05cff
DTSTAMP:20260419T133009Z
SUMMARY:Senior Awards Ceremony
URL;VALUE=URI:https://www.canastotacsd.org/calendar/8480065/senior-awards-c
 eremony
DTSTART;VALUE=DATE:20260622
DTEND;VALUE=DATE:20260623
END:VEVENT
END:VCALENDAR
