BEGIN:VCALENDAR
VERSION:2.0
PRODID:SchoolNow
CALSCALE:GREGORIAN
BEGIN:VEVENT
UID:0c886732-73b7-11f0-867b-02ee2af05cff
DTSTAMP:20260419T133009Z
SUMMARY:Class of 2026 - Senior Ball
URL;VALUE=URI:https://www.canastotacsd.org/calendar/8480066/class-of-2026-s
 enior-ball
DTSTART;VALUE=DATE:20260624
DTEND;VALUE=DATE:20260625
END:VEVENT
END:VCALENDAR
