BEGIN:VCALENDAR
VERSION:2.0
PRODID:SchoolNow
CALSCALE:GREGORIAN
BEGIN:VEVENT
UID:0c886818-73b7-11f0-8818-02ee2af05cff
DTSTAMP:20260419T133009Z
SUMMARY:Graduation Rehearsal
URL;VALUE=URI:https://www.canastotacsd.org/calendar/8480067/graduation-rehe
 arsal
DTSTART:20260626T120000Z
DTEND:20260626T130000Z
END:VEVENT
END:VCALENDAR
