BEGIN:VCALENDAR
VERSION:2.0
PRODID:SchoolNow
CALSCALE:GREGORIAN
BEGIN:VEVENT
UID:0c8869e4-73b7-11f0-bf80-02ee2af05cff
DTSTAMP:20260419T133009Z
SUMMARY:Commencement
URL;VALUE=URI:https://www.canastotacsd.org/calendar/8480069/commencement
DTSTART:20260626T230000Z
DTEND:20260627T000000Z
END:VEVENT
END:VCALENDAR
