BEGIN:VCALENDAR
VERSION:2.0
PRODID:SchoolNow
CALSCALE:GREGORIAN
BEGIN:VEVENT
UID:0c886aca-73b7-11f0-9fa0-02ee2af05cff
DTSTAMP:20260419T133009Z
SUMMARY:LAST DAY OF SCHOOL
URL;VALUE=URI:https://www.canastotacsd.org/calendar/8480070/last-day-of-sch
 ool
DTSTART;VALUE=DATE:20260626
DTEND;VALUE=DATE:20260627
END:VEVENT
END:VCALENDAR
