BEGIN:VCALENDAR
VERSION:2.0
PRODID:SchoolNow
CALSCALE:GREGORIAN
BEGIN:VEVENT
UID:0c886bb0-73b7-11f0-b850-02ee2af05cff
DTSTAMP:20260419T133009Z
SUMMARY:Regents Rating
URL;VALUE=URI:https://www.canastotacsd.org/calendar/8480071/regents-rating
DTSTART;VALUE=DATE:20260627
DTEND;VALUE=DATE:20260628
END:VEVENT
END:VCALENDAR
