BEGIN:VCALENDAR
VERSION:2.0
PRODID:SchoolNow
CALSCALE:GREGORIAN
BEGIN:VEVENT
UID:0c886ca0-73b7-11f0-8471-02ee2af05cff
DTSTAMP:20260419T133009Z
SUMMARY:Independence Day
URL;VALUE=URI:https://www.canastotacsd.org/calendar/8480072/independence-da
 y
DTSTART;VALUE=DATE:20260704
DTEND;VALUE=DATE:20260705
END:VEVENT
END:VCALENDAR
