BEGIN:VCALENDAR
VERSION:2.0
PRODID:SchoolNow
CALSCALE:GREGORIAN
BEGIN:VEVENT
UID:0c886d86-73b7-11f0-9553-02ee2af05cff
DTSTAMP:20260419T133009Z
SUMMARY:ACT
URL;VALUE=URI:https://www.canastotacsd.org/calendar/8480073/act
DTSTART;VALUE=DATE:20260718
DTEND;VALUE=DATE:20260719
END:VEVENT
END:VCALENDAR
