BEGIN:VCALENDAR
VERSION:2.0
PRODID:SchoolNow
CALSCALE:GREGORIAN
BEGIN:VEVENT
UID:0c886e76-73b7-11f0-a6cc-02ee2af05cff
DTSTAMP:20260419T193509Z
SUMMARY:Pre-K Orientation
URL;VALUE=URI:https://www.canastotacsd.org/calendar/8480074/pre-k-orientati
 on
DTSTART;VALUE=DATE:20260824
DTEND;VALUE=DATE:20260825
END:VEVENT
END:VCALENDAR
