BEGIN:VCALENDAR
VERSION:2.0
PRODID:SchoolNow
CALSCALE:GREGORIAN
BEGIN:VEVENT
UID:0c886f5c-73b7-11f0-8ada-02ee2af05cff
DTSTAMP:20260419T193509Z
SUMMARY:Kindergarten Orientation
URL;VALUE=URI:https://www.canastotacsd.org/calendar/8480075/kindergarten-or
 ientation
DTSTART;VALUE=DATE:20260826
DTEND;VALUE=DATE:20260827
END:VEVENT
END:VCALENDAR
