BEGIN:VCALENDAR
VERSION:2.0
PRODID:SchoolNow
CALSCALE:GREGORIAN
BEGIN:VEVENT
UID:0c887524-73b7-11f0-be5d-02ee2af05cff
DTSTAMP:20260419T133009Z
SUMMARY:Musical Tech Week
URL;VALUE=URI:https://www.canastotacsd.org/calendar/8480081/musical-tech-we
 ek
DTSTART;VALUE=DATE:20260323
DTEND;VALUE=DATE:20260324
END:VEVENT
END:VCALENDAR
