BEGIN:VCALENDAR
VERSION:2.0
PRODID:SchoolNow
CALSCALE:GREGORIAN
BEGIN:VEVENT
UID:0c8876f0-73b7-11f0-965f-02ee2af05cff
DTSTAMP:20260419T133009Z
SUMMARY:Musical Tech Week
URL;VALUE=URI:https://www.canastotacsd.org/calendar/8480083/musical-tech-we
 ek
DTSTART;VALUE=DATE:20260325
DTEND;VALUE=DATE:20260326
END:VEVENT
END:VCALENDAR
