BEGIN:VCALENDAR
VERSION:2.0
PRODID:SchoolNow
CALSCALE:GREGORIAN
BEGIN:VEVENT
UID:0c8878b2-73b7-11f0-aecb-02ee2af05cff
DTSTAMP:20260419T133009Z
SUMMARY:High School Musical
URL;VALUE=URI:https://www.canastotacsd.org/calendar/8480085/high-school-mus
 ical
DTSTART:20260327T230000Z
DTEND:20260328T000000Z
END:VEVENT
END:VCALENDAR
