BEGIN:VCALENDAR
VERSION:2.0
PRODID:SchoolNow
CALSCALE:GREGORIAN
BEGIN:VEVENT
UID:0c887998-73b7-11f0-990d-02ee2af05cff
DTSTAMP:20260419T133009Z
SUMMARY:High School Musical
URL;VALUE=URI:https://www.canastotacsd.org/calendar/8480086/high-school-mus
 ical
DTSTART:20260328T230000Z
DTEND:20260329T000000Z
END:VEVENT
END:VCALENDAR
