BEGIN:VCALENDAR
VERSION:2.0
PRODID:SchoolNow
CALSCALE:GREGORIAN
BEGIN:VEVENT
UID:0c887b5a-73b7-11f0-b068-02ee2af05cff
DTSTAMP:20260419T133009Z
SUMMARY:Spring Recess
URL;VALUE=URI:https://www.canastotacsd.org/calendar/8480088/spring-recess
DTSTART;VALUE=DATE:20260404
DTEND;VALUE=DATE:20260405
END:VEVENT
END:VCALENDAR
