BEGIN:VCALENDAR
VERSION:2.0
PRODID:SchoolNow
CALSCALE:GREGORIAN
BEGIN:VEVENT
UID:0c887c40-73b7-11f0-9079-02ee2af05cff
DTSTAMP:20260419T133009Z
SUMMARY:Spring Recess
URL;VALUE=URI:https://www.canastotacsd.org/calendar/8480089/spring-recess
DTSTART;VALUE=DATE:20260406
DTEND;VALUE=DATE:20260407
END:VEVENT
END:VCALENDAR
