BEGIN:VCALENDAR
VERSION:2.0
PRODID:SchoolNow
CALSCALE:GREGORIAN
BEGIN:VEVENT
UID:0c887d26-73b7-11f0-909f-02ee2af05cff
DTSTAMP:20260419T133009Z
SUMMARY:Spring Recess
URL;VALUE=URI:https://www.canastotacsd.org/calendar/8480090/spring-recess
DTSTART;VALUE=DATE:20260407
DTEND;VALUE=DATE:20260408
END:VEVENT
END:VCALENDAR
