BEGIN:VCALENDAR
VERSION:2.0
PRODID:SchoolNow
CALSCALE:GREGORIAN
BEGIN:VEVENT
UID:0c887fc4-73b7-11f0-9446-02ee2af05cff
DTSTAMP:20260419T133009Z
SUMMARY:Spring Recess
URL;VALUE=URI:https://www.canastotacsd.org/calendar/8480093/spring-recess
DTSTART;VALUE=DATE:20260410
DTEND;VALUE=DATE:20260411
END:VEVENT
END:VCALENDAR
