BEGIN:VCALENDAR
VERSION:2.0
PRODID:SchoolNow
CALSCALE:GREGORIAN
BEGIN:VEVENT
UID:0c8880b4-73b7-11f0-917b-02ee2af05cff
DTSTAMP:20260419T133009Z
SUMMARY:Senior Trip
URL;VALUE=URI:https://www.canastotacsd.org/calendar/8480094/senior-trip
DTSTART;VALUE=DATE:20260604
DTEND;VALUE=DATE:20260605
END:VEVENT
END:VCALENDAR
