BEGIN:VCALENDAR
VERSION:2.0
PRODID:SchoolNow
CALSCALE:GREGORIAN
BEGIN:VEVENT
UID:0c888190-73b7-11f0-bb0f-02ee2af05cff
DTSTAMP:20260419T133009Z
SUMMARY:Senior Trip
URL;VALUE=URI:https://www.canastotacsd.org/calendar/8480095/senior-trip
DTSTART;VALUE=DATE:20260605
DTEND;VALUE=DATE:20260606
END:VEVENT
END:VCALENDAR
