BEGIN:VCALENDAR
VERSION:2.0
PRODID:SchoolNow
CALSCALE:GREGORIAN
BEGIN:VEVENT
UID:0c88842e-73b7-11f0-8b21-02ee2af05cff
DTSTAMP:20260419T133009Z
SUMMARY:Regents Exams
URL;VALUE=URI:https://www.canastotacsd.org/calendar/8480098/regents-exams
DTSTART;VALUE=DATE:20260624
DTEND;VALUE=DATE:20260625
END:VEVENT
END:VCALENDAR
