BEGIN:VCALENDAR
VERSION:2.0
PRODID:SchoolNow
CALSCALE:GREGORIAN
BEGIN:VEVENT
UID:c43572ee-8d02-11f0-902a-0affcc149c19
DTSTAMP:20260419T133009Z
SUMMARY:Student Achievement Night
URL;VALUE=URI:https://www.canastotacsd.org/calendar/8597340/student-achieve
 ment-night
DTSTART:20260330T220000Z
DTEND:20260330T230000Z
END:VEVENT
END:VCALENDAR
