BEGIN:VCALENDAR
VERSION:2.0
PRODID:SchoolNow
CALSCALE:GREGORIAN
BEGIN:VEVENT
UID:84075210-ec1a-11f0-9495-0e7a71627b8b
DTSTAMP:20260419T133009Z
SUMMARY:Grade 4 Informance
URL;VALUE=URI:https://www.canastotacsd.org/calendar/8832523/grade-4-informa
 nce
DTSTART:20260521T220000Z
DTEND:20260521T230000Z
END:VEVENT
END:VCALENDAR
