BEGIN:VCALENDAR
VERSION:2.0
PRODID:SchoolNow
CALSCALE:GREGORIAN
BEGIN:VEVENT
UID:a2ff6b6c-0367-11f1-a849-0a58a9feac02
DTSTAMP:20260419T133009Z
SUMMARY:Connected Canastota Valentine's Dinner
URL;VALUE=URI:https://www.canastotacsd.org/calendar/8850386/connected-canas
 tota-valentines-dinner
DTSTART:20260212T220000Z
DTEND:20260213T000000Z
END:VEVENT
END:VCALENDAR
