BEGIN:VCALENDAR
VERSION:2.0
PRODID:SchoolNow
CALSCALE:GREGORIAN
BEGIN:VEVENT
UID:412165ec-10f2-11f1-9d90-0a58a9feac02
DTSTAMP:20260419T133009Z
SUMMARY:Special BOE Meeting 6:30 PM HS Media Center
URL;VALUE=URI:https://www.canastotacsd.org/calendar/8867243/special-boe-mee
 ting-6-30-pm-hs-media-center
DTSTART:20260224T233000Z
DTEND:20260225T003000Z
END:VEVENT
END:VCALENDAR
