BEGIN:VCALENDAR
VERSION:2.0
PRODID:SchoolNow
CALSCALE:GREGORIAN
BEGIN:VEVENT
UID:6752eb56-13ee-11f1-8d00-02e951da2cb5
DTSTAMP:20260419T133009Z
SUMMARY:Middle School Band & Chorus Spring Concert
URL;VALUE=URI:https://www.canastotacsd.org/calendar/8875748/middle-school-b
 and-chorus-spring-concert
DTSTART:20260611T230000Z
DTEND:20260612T000000Z
END:VEVENT
END:VCALENDAR
