BEGIN:VCALENDAR
VERSION:2.0
PRODID:SchoolNow
CALSCALE:GREGORIAN
BEGIN:VEVENT
UID:aee11b5a-3fef-11f1-a003-0a58a9feac02
DTSTAMP:20260425T092510Z
SUMMARY:Robert Drummond - AAC event
URL;VALUE=URI:https://www.canastotacsd.org/calendar/9016632/robert-drummond
 -aac-event
DTSTART:20260429T223000Z
DTEND:20260429T233000Z
END:VEVENT
END:VCALENDAR
