BEGIN:VCALENDAR
VERSION:2.0
PRODID:SchoolNow
CALSCALE:GREGORIAN
BEGIN:VEVENT
UID:c0975f02-d2be-11ef-99c0-0a58a9feac02
DTSTAMP:20250722T230009Z
SUMMARY:Spirit Day: Beach Day
URL;VALUE=URI:https://www.canastotacsd.org/pses/calendar/7315721/spirit-day
 -beach-day
DTSTART;VALUE=DATE:20250417
DTEND;VALUE=DATE:20250418
END:VEVENT
END:VCALENDAR
