BEGIN:VCALENDAR
VERSION:2.0
PRODID:SchoolNow
CALSCALE:GREGORIAN
BEGIN:VEVENT
UID:c0975ff2-d2be-11ef-b207-0a58a9feac02
DTSTAMP:20250722T230009Z
SUMMARY:Spirit Day: Raider Pride Day
URL;VALUE=URI:https://www.canastotacsd.org/pses/calendar/7315722/spirit-day
 -raider-pride-day
DTSTART;VALUE=DATE:20250502
DTEND;VALUE=DATE:20250503
END:VEVENT
END:VCALENDAR
