BEGIN:VCALENDAR
VERSION:2.0
PRODID:SchoolNow
CALSCALE:GREGORIAN
BEGIN:VEVENT
UID:c09764ac-d2be-11ef-9564-0a58a9feac02
DTSTAMP:20250722T230009Z
SUMMARY:School Lunch Hero Day
URL;VALUE=URI:https://www.canastotacsd.org/pses/calendar/7315723/school-lun
 ch-hero-day
DTSTART;VALUE=DATE:20250502
DTEND;VALUE=DATE:20250503
END:VEVENT
END:VCALENDAR
